BEGIN:VCALENDAR
VERSION:2.0
PRODID:-//ChamberMaster//Event Calendar 2.0//EN
METHOD:PUBLISH
X-PUBLISHED-TTL:P3D
REFRESH-INTERVAL:P3D
CALSCALE:GREGORIAN
BEGIN:VEVENT
DTSTART;VALUE=DATE:20261006
DTEND;VALUE=DATE:20261010
TRANSP:TRANSPARENT
X-MICROSOFT-CDO-ALLDAYEVENT:TRUE
SUMMARY:NACS Show (Las Vegas\, NV)
DESCRIPTION:If you are interested in this event please go to their website.
X-ALT-DESC;FMTTYPE=text/html:<span class="a_GcMg font-feature-liga-off font-feature-clig-off font-feature-calt-off text-decoration-none text-strikethrough-none" style="color: rgba(0\,0\,0\,var(--O42jJQ\,1))\; caret-color: rgb(0\, 0\, 0)\; --Ys-XuQ: none\; font-weight: 700\; font-kerning: none\;">If you are interested in this event please go to their website.</span>
LOCATION:
UID:e.9544.104
SEQUENCE:3
DTSTAMP:20260424T162153Z
URL:https://www.fpma.org/events/details/nacs-show-las-vegas-nv-104
END:VEVENT

END:VCALENDAR
